BEGIN:VCALENDAR
VERSION:2.0
PRODID:-//Food As Medicine Institute - ECPv5.3.1.1//NONSGML v1.0//EN
CALSCALE:GREGORIAN
METHOD:PUBLISH
X-WR-CALNAME:Food As Medicine Institute
X-ORIGINAL-URL:https://www.foodasmedicineinstitute.com
X-WR-CALDESC:Events for Food As Medicine Institute
BEGIN:VTIMEZONE
TZID:America/Los_Angeles
BEGIN:DAYLIGHT
TZOFFSETFROM:-0800
TZOFFSETTO:-0700
TZNAME:PDT
DTSTART:20190310T100000
END:DAYLIGHT
BEGIN:STANDARD
TZOFFSETFROM:-0700
TZOFFSETTO:-0800
TZNAME:PST
DTSTART:20191103T090000
END:STANDARD
END:VTIMEZONE
BEGIN:VEVENT
DTSTART;TZID=America/Los_Angeles:20190918T180000
DTEND;TZID=America/Los_Angeles:20191211T193000
DTSTAMP:20260419T131112
CREATED:20190629T034023Z
LAST-MODIFIED:20200229T020001Z
UID:7304-1568829600-1576092600@www.foodasmedicineinstitute.com
SUMMARY:Food as Medicine Everyday - Fall 2019
DESCRIPTION:~Sold Out~\nWednesday Evenings\, September 18 – December 11\, 2019 | 6:00 – 7:30 p.m. \nNo class the week of Thanksgiving \nLocation: Charlee’s Kitchen\, 2220 SW First Avenue Portland\, Map and directions \n  \nThe Food as Medicine Everyday series is a series of weekly workshops that demonstrate simple techniques for selecting and cooking tasty\, nutritious whole foods and teach how these foods can improve health and fitness. \nFAME Charlee’s Kitchen is a 12-week series which includes 90 minutes of nutrition education and hands-on cooking. Each week our naturopathic physicians or nutritionists share their in-depth knowledge around chronic disease\, wellness\, and nutrition. FAME Charlee’s Kitchen can serve those looking for an introduction to cooking and eating whole foods and those looking for a deeper understanding  about the health benefits of a whole foods based diet. \nRegardless of age\, cooking experience\, or health status\, you and your whole family will benefit from learning healthy cooking skills and nutritional know-how. Each workshop will welcome up to 15–20 participants\, both children and adults. \nParticipants Receive\n\n90 minutes with a naturopathic physician or nutritionist each week.\nThe Food as Medicine Everyday\, Reclaim your Health with Whole Foods book. Written by Dr. Julie Briley and Dr. Courtney Jackson\nA whole foods based meal each week\nBONUS: Free whole grains and legumes from Bob’s Red Mill every week.\nTransform your eating habits in just 12 weeks!\n\nRegistration\n\n\n\nEarly bird pricing\, through August 31\n$299 individuals\n$499 family rate (2 participants)* \nRegular price\, after August 31\n$349 individuals\n$599 family rate (2 participants)* \n*Please include both participant’s names on the checkout form. \n~Sold Out~
URL:https://www.foodasmedicineinstitute.com/calendar/food-as-medicine-everyday-fall-2019/
END:VEVENT
END:VCALENDAR