BEGIN:VCALENDAR
VERSION:2.0
PRODID:-//Food As Medicine Institute - ECPv5.3.1.1//NONSGML v1.0//EN
CALSCALE:GREGORIAN
METHOD:PUBLISH
X-WR-CALNAME:Food As Medicine Institute
X-ORIGINAL-URL:https://www.foodasmedicineinstitute.com
X-WR-CALDESC:Events for Food As Medicine Institute
BEGIN:VTIMEZONE
TZID:America/Los_Angeles
BEGIN:DAYLIGHT
TZOFFSETFROM:-0800
TZOFFSETTO:-0700
TZNAME:PDT
DTSTART:20190310T100000
END:DAYLIGHT
BEGIN:STANDARD
TZOFFSETFROM:-0700
TZOFFSETTO:-0800
TZNAME:PST
DTSTART:20191103T090000
END:STANDARD
END:VTIMEZONE
BEGIN:VEVENT
DTSTART;TZID=America/Los_Angeles:20190410T080000
DTEND;TZID=America/Los_Angeles:20190626T170000
DTSTAMP:20260419T195918
CREATED:20190118T025356Z
LAST-MODIFIED:20200229T020001Z
UID:6938-1554883200-1561568400@www.foodasmedicineinstitute.com
SUMMARY:Food as Medicine Everyday - Spring 2019
DESCRIPTION:Wednesday Evenings\, April 10 – June 26\, 2019 | 6:00 – 7:30 p.m. \nLocation: Charlee’s Kitchen\, 2220 SW First Avenue Portland\, Map and directions \nThe Food as Medicine Everyday series is a series of weekly workshops that demonstrate simple techniques for selecting and cooking tasty\, nutritious whole foods and teach how these foods can improve health and fitness. \nEach registration includes a copy of the Food as Medicine Everyday book. \nRegistration\n\n\n\nEarly bird pricing\, now through the end of March!\n$299 individuals\n$499 family rate (2 participants)* \nRegular price\, starting April 1\n$349 individuals\n$599 family rate (2 participants)* \n*Please include both participant’s names on the checkout form.
URL:https://www.foodasmedicineinstitute.com/calendar/fame-spring-2019/
END:VEVENT
END:VCALENDAR